BEGIN:VCALENDAR
VERSION:2.0
PRODID:spatie/icalendar-generator
DESCRIPTION:Events from Youth Association DRONI
X-WR-CALDESC:Events from Youth Association DRONI
REFRESH-INTERVAL;VALUE=DURATION:PT1440M
X-PUBLISHED-TTL:PT1440M
BEGIN:VTIMEZONE
TZID:Etc/GMT+0
BEGIN:STANDARD
DTSTART:20250807T180000Z
TZOFFSETFROM:+0000
TZOFFSETTO:+0000
END:STANDARD
END:VTIMEZONE
BEGIN:VTIMEZONE
TZID:UTC
BEGIN:STANDARD
DTSTART:20250726T174636Z
TZOFFSETFROM:+0000
TZOFFSETTO:+0000
END:STANDARD
END:VTIMEZONE
BEGIN:VEVENT
UID:156-117
DTSTAMP:20260422T174636Z
SUMMARY:Mindfulness session - Training attention skills: bringing elements 
 of curiosity\, intention and care into life
LOCATION:Droni\\'s office Bakhtrioni Street 24 9th Floor Tbilisi
ORGANIZER;CN=Gaspard Martin:MAILTO:gaspard@droni.org
DTSTART;TZID=Etc/GMT+0:20260504T180000
DTEND;TZID=Etc/GMT+0:20260504T190000
X-ALT-DESC;FMTTYPE=TEXT/HTML:
CATEGORIES:Workshops
URL;VALUE=URI:https://droni.org/mc-events/mindfulness-session-training-atte
 ntion-skills-bringing-elements-of-curiosity-intention-and-care-into-life/
METHOD:PUBLISH
END:VEVENT
END:VCALENDAR