BEGIN:VCALENDAR
VERSION:2.0
PRODID:spatie/icalendar-generator
DESCRIPTION:Events from Youth Association DRONI
X-WR-CALDESC:Events from Youth Association DRONI
REFRESH-INTERVAL;VALUE=DURATION:PT1440M
X-PUBLISHED-TTL:PT1440M
BEGIN:VTIMEZONE
TZID:Etc/GMT+0
BEGIN:STANDARD
DTSTART:20250729T180000Z
TZOFFSETFROM:+0000
TZOFFSETTO:+0000
END:STANDARD
END:VTIMEZONE
BEGIN:VTIMEZONE
TZID:UTC
BEGIN:STANDARD
DTSTART:20250724T145339Z
TZOFFSETFROM:+0000
TZOFFSETTO:+0000
END:STANDARD
END:VTIMEZONE
BEGIN:VEVENT
UID:160-116
DTSTAMP:20260420T145339Z
SUMMARY:Psycho-Education Club
LOCATION:Droni\\'s office Bakhtrioni Street 24 9th Floor Tbilisi
ORGANIZER;CN=Ana:MAILTO:ana.katsiashvili@droni.org
DTSTART;TZID=Etc/GMT+0:20260425T180000
DTEND;TZID=Etc/GMT+0:20260425T193000
X-ALT-DESC;FMTTYPE=TEXT/HTML:
CATEGORIES:Workshops
URL;VALUE=URI:https://droni.org/mc-events/psycho-education-club/
METHOD:PUBLISH
END:VEVENT
END:VCALENDAR