BEGIN:VCALENDAR
VERSION:2.0
PRODID:spatie/icalendar-generator
DESCRIPTION:Events from Youth Association DRONI
X-WR-CALDESC:Events from Youth Association DRONI
REFRESH-INTERVAL;VALUE=DURATION:PT1440M
X-PUBLISHED-TTL:PT1440M
BEGIN:VTIMEZONE
TZID:Etc/GMT+0
BEGIN:STANDARD
DTSTART:20250814T180000Z
TZOFFSETFROM:+0000
TZOFFSETTO:+0000
END:STANDARD
END:VTIMEZONE
BEGIN:VTIMEZONE
TZID:UTC
BEGIN:STANDARD
DTSTART:20250726T161819Z
TZOFFSETFROM:+0000
TZOFFSETTO:+0000
END:STANDARD
END:VTIMEZONE
BEGIN:VEVENT
UID:157-118
DTSTAMP:20260422T161819Z
SUMMARY:Mindfulness Session - Shifting perspective: exploring new ways of b
 eing
LOCATION:Droni\\'s office Bakhtrioni Street 24 9th Floor Tbilisi
ORGANIZER;CN=Gaspard Martin:MAILTO:gaspard@droni.org
DTSTART;TZID=Etc/GMT+0:20260511T180000
DTEND;TZID=Etc/GMT+0:20260511T190000
X-ALT-DESC;FMTTYPE=TEXT/HTML:
CATEGORIES:Workshops
URL;VALUE=URI:https://droni.org/mc-events/mindfulness-session-shifting-pers
 pective-exploring-new-ways-of-being/
METHOD:PUBLISH
END:VEVENT
END:VCALENDAR