BEGIN:VCALENDAR
VERSION:2.0
PRODID:spatie/icalendar-generator
DESCRIPTION:Events from Youth Association DRONI
X-WR-CALDESC:Events from Youth Association DRONI
REFRESH-INTERVAL;VALUE=DURATION:PT1440M
X-PUBLISHED-TTL:PT1440M
BEGIN:VTIMEZONE
TZID:Etc/GMT+0
BEGIN:STANDARD
DTSTART:20250821T180000Z
TZOFFSETFROM:+0000
TZOFFSETTO:+0000
END:STANDARD
END:VTIMEZONE
BEGIN:VTIMEZONE
TZID:UTC
BEGIN:STANDARD
DTSTART:20250726T164841Z
TZOFFSETFROM:+0000
TZOFFSETTO:+0000
END:STANDARD
END:VTIMEZONE
BEGIN:VEVENT
UID:158-119
DTSTAMP:20260422T164841Z
SUMMARY:Mindfulness Session - Wise responding: responding skillfully
LOCATION:Droni\\'s office Bakhtrioni Street 24 9th Floor Tbilisi
ORGANIZER;CN=Gaspard Martin:MAILTO:gaspard@droni.org
DTSTART;TZID=Etc/GMT+0:20260518T180000
DTEND;TZID=Etc/GMT+0:20260518T190000
X-ALT-DESC;FMTTYPE=TEXT/HTML:
CATEGORIES:Workshops
URL;VALUE=URI:https://droni.org/mc-events/mindfulness-session-wise-respondi
 ng-responding-skillfully/
METHOD:PUBLISH
END:VEVENT
END:VCALENDAR