BEGIN:VCALENDAR
VERSION:2.0
PRODID:spatie/icalendar-generator
DESCRIPTION:Events from Youth Association DRONI
X-WR-CALDESC:Events from Youth Association DRONI
REFRESH-INTERVAL;VALUE=DURATION:PT1440M
X-PUBLISHED-TTL:PT1440M
BEGIN:VTIMEZONE
TZID:Etc/GMT+0
BEGIN:STANDARD
DTSTART:20250828T180000Z
TZOFFSETFROM:+0000
TZOFFSETTO:+0000
END:STANDARD
END:VTIMEZONE
BEGIN:VTIMEZONE
TZID:UTC
BEGIN:STANDARD
DTSTART:20250726T155620Z
TZOFFSETFROM:+0000
TZOFFSETTO:+0000
END:STANDARD
END:VTIMEZONE
BEGIN:VEVENT
UID:159-120
DTSTAMP:20260422T155620Z
SUMMARY:Mindfulness Session - The beginning of the end: course summary\, fe
 edback\, and discussion of future plans
LOCATION:Droni\\'s office Bakhtrioni Street 24 9th Floor Tbilisi
ORGANIZER;CN=Gaspard Martin:MAILTO:gaspard@droni.org
DTSTART;TZID=Etc/GMT+0:20260525T180000
DTEND;TZID=Etc/GMT+0:20260525T190000
X-ALT-DESC;FMTTYPE=TEXT/HTML:
CATEGORIES:Workshops
URL;VALUE=URI:https://droni.org/mc-events/mindfulness-session-the-beginning
 -of-the-end-course-summary-feedback-and-discussion-of-future-plans/
METHOD:PUBLISH
END:VEVENT
END:VCALENDAR